BEGIN:VCALENDAR
VERSION:2.0
PRODID:-//Grupo de Montaña Adala//NONSGML v1.0//EN
BEGIN:VEVENT
UID:actividad-132@adalamontana.com
DTSTAMP:20260426T035802Z
DTSTART:20260322T073000
SUMMARY:CUEVA ROTA - CUBADA GRANDE (1.607mts)
LOCATION:LAREDO\,COLINDRES\,AMPUERO
DESCRIPTION:OPCION B:Se realizará también un recorrido alternativo con algo menos de dificultad\, que consistirá en hacer la misma marchapero sin el ascenso a la Cueva Rota\, algo empinado y en el cual hay que ayudarse de las manos. El resto del recorridoserá el mismo que el de la marcha principal\, reduciéndose el tiempo y la dificultad\, y quedando una ruta de 4\,00 haproximadamente para esta opción B.DESCRIPCION DE LA RUTA:En esta ocasión realizaremos una travesía por las inmediaciones de los Montes d
URL:https://adalamontana.com/actividades/cueva-rota-cubada-grande-1-607mts-el-bernacho/
END:VEVENT
END:VCALENDAR
