BEGIN:VCALENDAR
VERSION:2.0
PRODID:-//Grupo de Montaña Adala//NONSGML v1.0//EN
BEGIN:VEVENT
UID:actividad-478@adalamontana.com
DTSTAMP:20260426T021455Z
DTSTART:20261004
SUMMARY:HORCADA VERDE – PICO SAN CARLOS – PICO LA PADIORNA
URL:https://adalamontana.com/actividades/horcada-verde-pico-san-carlos-pico-la-padiorna/
END:VEVENT
END:VCALENDAR
