BEGIN:VCALENDAR
VERSION:2.0
PRODID:-//Grupo de Montaña Adala//NONSGML v1.0//EN
BEGIN:VEVENT
UID:actividad-479@adalamontana.com
DTSTAMP:20260426T021523Z
DTSTART:20261108
SUMMARY:TRUCIOS – VUELTA A LOS JORRIOS
URL:https://adalamontana.com/actividades/trucios-vuelta-a-los-jorrios/
END:VEVENT
END:VCALENDAR
