BEGIN:VCALENDAR
VERSION:2.0
PRODID:-//Grupo de Montaña Adala//NONSGML v1.0//EN
BEGIN:VEVENT
UID:actividad-480@adalamontana.com
DTSTAMP:20260426T021455Z
DTSTART:20261220
SUMMARY:CIRCUITO VIRGEN DE LAS NIEVES Y COMIDA FIN DE AÑO
URL:https://adalamontana.com/actividades/circuito-virgen-de-las-nieves-y-comida-fin-de-ano/
END:VEVENT
END:VCALENDAR
