BEGIN:VCALENDAR
VERSION:2.0
PRODID:-//Grupo de Montaña Adala//NONSGML v1.0//EN
BEGIN:VEVENT
UID:actividad-481@adalamontana.com
DTSTAMP:20260426T021456Z
DTSTART:20260913
SUMMARY:Montaña Riaño y Mampodre
URL:https://adalamontana.com/actividades/montana-riano-y-mampodre-2/
END:VEVENT
END:VCALENDAR
