BEGIN:VCALENDAR
VERSION:2.0
PRODID:-//Grupo de Montaña Adala//NONSGML v1.0//EN
BEGIN:VEVENT
UID:actividad-482@adalamontana.com
DTSTAMP:20260426T021500Z
DTSTART:20260914
SUMMARY:Montaña Riaño y Mampodre
URL:https://adalamontana.com/actividades/montana-riano-y-mampodre-3/
END:VEVENT
END:VCALENDAR
