BEGIN:VCALENDAR
VERSION:2.0
PRODID:-//Grupo de Montaña Adala//NONSGML v1.0//EN
BEGIN:VEVENT
UID:actividad-483@adalamontana.com
DTSTAMP:20260426T021459Z
DTSTART:20260915
SUMMARY:Montaña Riaño y Mampodre
URL:https://adalamontana.com/actividades/montana-riano-y-mampodre-4/
END:VEVENT
END:VCALENDAR
